Workbook

Sheet JULIO CON AJUSTE
A1: En cumplimiento a lo dispuesto en el artículo 11 párrafo último de la Ley de Coordinación Fiscal para el Estado de Oaxaca y numeral 5 fracción II, inciso b del Acuerdo por el que se expiden los Lineamientos para la publicación de la información a que se refiere el articulo 6o. de la Ley de Coordinación Fiscal.
A2: I. Importe de las Participaciones pagadas a los Municipios del Estado de Oaxaca correspondiente al mes de JULIO de 2026, incluye el 2do. Ajuste Trimestral 2026 del Fondo de Fiscalización y Recaudación.
A3: CLAVE | B3: MUNICIPIO | C3: FONDO GENERAL DE PARTICIPACIONES | D3: FONDO DE FOMENTO MUNICIPAL | E3: FONDO DE IMPUESTOS ESPECIALES SOBRE PRODUCCION Y SERVICIOS | F3: FONDO DE FISCALIZACION Y RECAUDACIÓN | G3: FONDO DE COMPENSACION | H3: IMPUESTO SOBRE AUTOMÓVILES NUEVOS | I3: IMPUESTO A LAS VENTAS FINALES DE GASOLINAS Y DIESEL | J3: 9/11 FIEPS GASOLINA Y DIESEL (CORRESPONDIENTE A JUNIO 2026) | K3: FONDO DE COMPENSACION DEL IMPUESTO SOBRE AUTOMOVILES NUEVOS | L3: ISR ARTICULO 126 | M3: ISR 3-B | N3: HIDROCARBUROS | O3: TOTAL
A4: 1 | B4: ABEJONES | C4: 134965.42 | D4: 53141.6 | E4: 2141.32 | F4: =+'JULIO ORDINARIO'!F4+'2do AJUST. TRIMESTRAL'!C4 -> 10532.22 | G4: 2092.46 | H4: 823.29 | I4: 1553.81 | J4: 1.53 | K4: 458.79 | L4: 167.05 | M4: 9418 | N4: 0 | O4: =SUM(C4:N4) -> 215295.49
A5: 2 | B5: ACATLAN DE PEREZ FIGUEROA | C5: 3245913.9 | D5: 1843777.3 | E5: 39651.82 | F5: =+'JULIO ORDINARIO'!F5+'2do AJUST. TRIMESTRAL'!C5 -> 367971.13 | G5: 111800.31 | H5: 28487.07 | I5: 90410.71 | J5: 88.77 | K5: 6016.5 | L5: 10717.91 | M5: 659382 | N5: 42148.85 | O5: =SUM(C5:N5) -> 6446366.3
A6: 3 | B6: ASUNCION CACALOTEPEC | C6: 213829.88 | D6: 49565.6 | E6: 2976.41 | F6: =+'JULIO ORDINARIO'!F6+'2do AJUST. TRIMESTRAL'!C6 -> 20984.64 | G6: 6418.03 | H6: 1627.6 | I6: 4734 | J6: 4.65 | K6: 542.95 | L6: 513 | M6: 0 | N6: 0 | O6: =SUM(C6:N6) -> 301196.76
A7: 4 | B7: ASUNCION CUYOTEPEJI | C7: 124221.19 | D7: 66360.03 | E7: 1711.04 | F7: =+'JULIO ORDINARIO'!F7+'2do AJUST. TRIMESTRAL'!C7 -> 12398.64 | G7: 2715.78 | H7: 963.49 | I7: 2408.53 | J7: 2.36 | K7: 333.14 | L7: 311.01 | M7: 0 | N7: 0 | O7: =SUM(C7:N7) -> 211425.21
A8: 5 | B8: ASUNCION IXTALTEPEC | C8: 1760731.7 | D8: 449601.14 | E8: 20773.31 | F8: =+'JULIO ORDINARIO'!F8+'2do AJUST. TRIMESTRAL'!C8 -> 193218.62 | G8: 37158.55 | H8: 15050.96 | I8: 38329.13 | J8: 37.63 | K8: 3066.47 | L8: 5573.3 | M8: 0 | N8: 0 | O8: =SUM(C8:N8) -> 2523540.8
A9: 6 | B9: ASUNCION NOCHIXTLAN | C9: 2211482.4 | D9: 940545.01 | E9: 23947.21 | F9: =+'JULIO ORDINARIO'!F9+'2do AJUST. TRIMESTRAL'!C9 -> 266041.21 | G9: 50244.06 | H9: 20680.4 | I9: 54852.66 | J9: 53.86 | K9: 3054.98 | L9: 8340.33 | M9: 137184 | N9: 0 | O9: =SUM(C9:N9) -> 3716426.1
A10: 7 | B10: ASUNCION OCOTLAN | C10: 265355.51 | D10: 84463.28 | E10: 3833.78 | F10: =+'JULIO ORDINARIO'!F10+'2do AJUST. TRIMESTRAL'!C10 -> 22990.08 | G10: 6183.95 | H10: 1802.77 | I10: 4424.89 | J10: 4.34 | K10: 779.03 | L10: 475.71 | M10: 0 | N10: 0 | O10: =SUM(C10:N10) -> 390313.34
A11: 8 | B11: ASUNCION TLACOLULITA | C11: 131065.49 | D11: 57413.51 | E11: 1814.46 | F11: =+'JULIO ORDINARIO'!F11+'2do AJUST. TRIMESTRAL'!C11 -> 12046.46 | G11: 1816.76 | H11: 941.04 | I11: 1871.66 | J11: 1.84 | K11: 330.59 | L11: 275.12 | M11: 0 | N11: 0 | O11: =SUM(C11:N11) -> 207576.93
A12: 9 | B12: AYOTZINTEPEC | C12: 478258.43 | D12: 167022.62 | E12: 5825.67 | F12: =+'JULIO ORDINARIO'!F12+'2do AJUST. TRIMESTRAL'!C12 -> 49640.26 | G12: 17029.96 | H12: 3894.88 | I12: 12668.66 | J12: 12.44 | K12: 1043.47 | L12: 1361.99 | M12: 0 | N12: 0 | O12: =SUM(C12:N12) -> 736758.38
A13: 10 | B13: EL BARRIO DE LA SOLEDAD | C13: 2026170.5 | D13: 471138.52 | E13: 22693.78 | F13: =+'JULIO ORDINARIO'!F13+'2do AJUST. TRIMESTRAL'!C13 -> 288736.03 | G13: 32744.38 | H13: 21927.71 | I13: 53057.98 | J13: 52.09 | K13: 1892.22 | L13: 9741.33 | M13: 0 | N13: 0 | O13: =SUM(C13:N13) -> 2928154.5
A14: 11 | B14: CALIHUALA | C14: 137087.41 | D14: 67297.74 | E14: 2003.67 | F14: =+'JULIO ORDINARIO'!F14+'2do AJUST. TRIMESTRAL'!C14 -> 12815.75 | G14: 3544.22 | H14: 992.33 | I14: 2630.86 | J14: 2.58 | K14: 380.36 | L14: 288.66 | M14: 0 | N14: 0 | O14: =SUM(C14:N14) -> 227043.58
A15: 12 | B15: CANDELARIA LOXICHA | C15: 921113.69 | D15: 94580.06 | E15: 11060.22 | F15: =+'JULIO ORDINARIO'!F15+'2do AJUST. TRIMESTRAL'!C15 -> 116800.71 | G15: 28798.58 | H15: 8933.21 | I15: 26367.96 | J15: 25.89 | K15: 1354.09 | L15: 3657.31 | M15: 0 | N15: 0 | O15: =SUM(C15:N15) -> 1212691.7
... A573: 570 | B573: ZIMATLAN DE ALVAREZ | C573: 2000227.8 | D573: 758765.59 | E573: 22583.07 | F573: =+'JULIO ORDINARIO'!F573+'2do AJUST. TRIMESTRAL'!C573 -> 244386.55 | G573: 54329.93 | H573: 18937.34 | I573: 53824.57 | J573: 52.85 | K573: 3093.7 | L573: 7651.01 | M573: 243546 | N573: 0 | O573: =SUM(C573:N573) -> 3407398.4
A574: TOTAL | C574: =SUM(C4:C573) -> 4.6233755e+08 | D574: =SUM(D4:D573) -> 1.6666682e+08 | E574: =SUM(E4:E573) -> 5467781 | F574: =SUM(F4:F573) -> 54337389 | G574: =SUM(G4:G573) -> 10240649 | H574: =SUM(H4:H573) -> 4192465 | I574: =SUM(I4:I573) -> 10906227 | J574: =SUM(J4:J573) -> 10708.2 | ... N574: =SUM(N4:N573) -> 1386794.9 | O574: =SUM(C574:N574) -> 7.6317486e+08
B575: NOTA: LAS SUMATORIAS DE CADA CONCEPTO PUEDE NO COINCIDIR POR EL REDONDEO

Sheet JULIO ORDINARIO
A1: En cumplimiento a lo dispuesto en el artículo 11 párrafo último de la Ley de Coordinación Fiscal para el Estado de Oaxaca y numeral 5 fracción II, inciso b del Acuerdo por el que se expiden los Lineamientos para la publicación de la información a que se refiere el articulo 6o. de la Ley de Coordinación Fiscal.
A2: I. Importe de las Participaciones pagadas a los Municipios del Estado de Oaxaca correspondiente al mes de JULIO de 2026.
A3: CLAVE | B3: MUNICIPIO | C3: FONDO GENERAL DE PARTICIPACIONES | D3: FONDO DE FOMENTO MUNICIPAL | E3: FONDO DE IMPUESTOS ESPECIALES SOBRE PRODUCCION Y SERVICIOS | F3: FONDO DE FISCALIZACION Y RECAUDACIÓN | G3: FONDO DE COMPENSACION | H3: IMPUESTO SOBRE AUTOMÓVILES NUEVOS | I3: IMPUESTO A LAS VENTAS FINALES DE GASOLINAS Y DIESEL | J3: 9/11 FIEPS GASOLINA Y DIESEL (CORRESPONDIENTE A JUNIO 2026) | K3: FONDO DE COMPENSACION DEL IMPUESTO SOBRE AUTOMOVILES NUEVOS ISAN | L3: ISR ARTICULO 126 | M3: ISR 3-B | N3: HIDROCARBUROS | O3: TOTAL
A4: 1 | B4: ABEJONES | C4: 134965.42 | D4: 53141.6 | E4: 2141.32 | F4: 6015.11 | G4: 2092.46 | H4: 823.29 | I4: 1553.81 | J4: 1.53 | K4: 458.79 | L4: 167.05 | M4: 9418 | N4: 0 | O4: =SUM(C4:N4) -> 210778.38
A5: 2 | B5: ACATLAN DE PEREZ FIGUEROA | C5: 3245913.9 | D5: 1843777.3 | E5: 39651.82 | F5: 78156.1 | G5: 111800.31 | H5: 28487.07 | I5: 90410.71 | J5: 88.77 | K5: 6016.5 | L5: 10717.91 | M5: 659382 | N5: 42148.85 | O5: =SUM(C5:N5) -> 6156551.3
A6: 3 | B6: ASUNCION CACALOTEPEC | C6: 213829.88 | D6: 49565.6 | E6: 2976.41 | F6: 7113.03 | G6: 6418.03 | H6: 1627.6 | I6: 4734 | J6: 4.65 | K6: 542.95 | L6: 513 | M6: 0 | N6: 0 | O6: =SUM(C6:N6) -> 287325.15
A7: 4 | B7: ASUNCION CUYOTEPEJI | C7: 124221.19 | D7: 66360.03 | E7: 1711.04 | F7: 3988.8 | G7: 2715.78 | H7: 963.49 | I7: 2408.53 | J7: 2.36 | K7: 333.14 | L7: 311.01 | M7: 0 | N7: 0 | O7: =SUM(C7:N7) -> 203015.37
A8: 5 | B8: ASUNCION IXTALTEPEC | C8: 1760731.7 | D8: 449601.14 | E8: 20773.31 | F8: 42515.19 | G8: 37158.55 | H8: 15050.96 | I8: 38329.13 | J8: 37.63 | K8: 3066.47 | L8: 5573.3 | M8: 0 | N8: 0 | O8: =SUM(C8:N8) -> 2372837.4
A9: 6 | B9: ASUNCION NOCHIXTLAN | C9: 2211482.4 | D9: 940545.01 | E9: 23947.21 | F9: 40516.65 | G9: 50244.06 | H9: 20680.4 | I9: 54852.66 | J9: 53.86 | K9: 3054.98 | L9: 8340.33 | M9: 137184 | N9: 0 | O9: =SUM(C9:N9) -> 3490901.6
A10: 7 | B10: ASUNCION OCOTLAN | C10: 265355.51 | D10: 84463.28 | E10: 3833.78 | F10: 10126.71 | G10: 6183.95 | H10: 1802.77 | I10: 4424.89 | J10: 4.34 | K10: 779.03 | L10: 475.71 | M10: 0 | N10: 0 | O10: =SUM(C10:N10) -> 377449.97
A11: 8 | B11: ASUNCION TLACOLULITA | C11: 131065.49 | D11: 57413.51 | E11: 1814.46 | F11: 4607.1 | G11: 1816.76 | H11: 941.04 | I11: 1871.66 | J11: 1.84 | K11: 330.59 | L11: 275.12 | M11: 0 | N11: 0 | O11: =SUM(C11:N11) -> 200137.57
A12: 9 | B12: AYOTZINTEPEC | C12: 478258.43 | D12: 167022.62 | E12: 5825.67 | F12: 12811.8 | G12: 17029.96 | H12: 3894.88 | I12: 12668.66 | J12: 12.44 | K12: 1043.47 | L12: 1361.99 | M12: 0 | N12: 0 | O12: =SUM(C12:N12) -> 699929.92
A13: 10 | B13: EL BARRIO DE LA SOLEDAD | C13: 2026170.5 | D13: 471138.52 | E13: 22693.78 | F13: 25327.93 | G13: 32744.38 | H13: 21927.71 | I13: 53057.98 | J13: 52.09 | K13: 1892.22 | L13: 9741.33 | M13: 0 | N13: 0 | O13: =SUM(C13:N13) -> 2664746.4
A14: 11 | B14: CALIHUALA | C14: 137087.41 | D14: 67297.74 | E14: 2003.67 | F14: 5010.39 | G14: 3544.22 | H14: 992.33 | I14: 2630.86 | J14: 2.58 | K14: 380.36 | L14: 288.66 | M14: 0 | N14: 0 | O14: =SUM(C14:N14) -> 219238.22
A15: 12 | B15: CANDELARIA LOXICHA | C15: 921113.69 | D15: 94580.06 | E15: 11060.22 | F15: 17906.06 | G15: 28798.58 | H15: 8933.21 | I15: 26367.96 | J15: 25.89 | K15: 1354.09 | L15: 3657.31 | M15: 0 | N15: 0 | O15: =SUM(C15:N15) -> 1113797.1
... A573: 570 | B573: ZIMATLAN DE ALVAREZ | C573: 2000227.8 | D573: 758765.59 | E573: 22583.07 | F573: 37501.31 | G573: 54329.93 | H573: 18937.34 | I573: 53824.57 | J573: 52.85 | K573: 3093.7 | L573: 7651.01 | M573: 243546 | N573: 0 | O573: =SUM(C573:N573) -> 3200513.1
A574: TOTAL | C574: =SUM(C4:C573) -> 4.6233755e+08 | D574: =SUM(D4:D573) -> 1.6666682e+08 | E574: =SUM(E4:E573) -> 5467781 | F574: =SUM(F4:F573) -> 9950447.5 | G574: =SUM(G4:G573) -> 10240649 | H574: =SUM(H4:H573) -> 4192465 | I574: =SUM(I4:I573) -> 10906227 | J574: =SUM(J4:J573) -> 10708.2 | ... N574: =SUM(N4:N573) -> 1386794.9 | O574: =SUM(C574:N574) -> 7.1878792e+08
B575: NOTA: LAS SUMATORIAS DE CADA CONCEPTO PUEDE NO COINCIDIR POR EL REDONDEO

Sheet 2do AJUST. TRIMESTRAL
A1: En cumplimiento a lo dispuesto en el artículo 11 párrafo último de la Ley de Coordinación Fiscal para el Estado de Oaxaca y numeral 5 fracción II, inciso b del Acuerdo por el que se expiden los Lineamientos para la publicación de la información a que se refiere el articulo 6o. de la Ley de Coordinación Fiscal.
A2: I. Importe de las Participaciones pagadas a los Municipios del Estado de Oaxaca correspondiente al 2do. Ajuste Trimestral 2026 del Fondo de Fiscalización y Recaudación.
A3: CLAVE | B3: MUNICIPIO | C3: 2DO AJUSTE TRIMESTRAL 2026 DEL FOFIR | D3: TOTAL AJUSTE
A4: 1 | B4: ABEJONES | C4: 4517.11 | D4: =SUM(C4:C4) -> 4517.11
A5: 2 | B5: ACATLAN DE PEREZ FIGUEROA | C5: 289815.03 | D5: =SUM(C5:C5) -> 289815.03
A6: 3 | B6: ASUNCION CACALOTEPEC | C6: 13871.61 | D6: =SUM(C6:C6) -> 13871.61
A7: 4 | B7: ASUNCION CUYOTEPEJI | C7: 8409.84 | D7: =SUM(C7:C7) -> 8409.84
A8: 5 | B8: ASUNCION IXTALTEPEC | C8: 150703.43 | D8: =SUM(C8:C8) -> 150703.43
A9: 6 | B9: ASUNCION NOCHIXTLAN | C9: 225524.56 | D9: =SUM(C9:C9) -> 225524.56
A10: 7 | B10: ASUNCION OCOTLAN | C10: 12863.37 | D10: =SUM(C10:C10) -> 12863.37
A11: 8 | B11: ASUNCION TLACOLULITA | C11: 7439.36 | D11: =SUM(C11:C11) -> 7439.36
A12: 9 | B12: AYOTZINTEPEC | C12: 36828.46 | D12: =SUM(C12:C12) -> 36828.46
A13: 10 | B13: EL BARRIO DE LA SOLEDAD | C13: 263408.1 | D13: =SUM(C13:C13) -> 263408.1
A14: 11 | B14: CALIHUALA | C14: 7805.36 | D14: =SUM(C14:C14) -> 7805.36
A15: 12 | B15: CANDELARIA LOXICHA | C15: 98894.65 | D15: =SUM(C15:C15) -> 98894.65
... A573: 570 | B573: ZIMATLAN DE ALVAREZ | C573: 206885.24 | D573: =SUM(C573:C573) -> 206885.24
A574: TOTAL | C574: =SUM(C4:C573) -> 44386941 | D574: =SUM(D4:D573) -> 44386941

Sheet TOTAL PAGADO
A1: En cumplimiento a lo dispuesto en el artículo 11 párrafo último de la Ley de Coordinación Fiscal para el Estado de Oaxaca y numeral 5 fracción II, inciso b del Acuerdo por el que se expiden los Lineamientos para la publicación de la información a que se refiere el articulo 6o. de la Ley de Coordinación Fiscal.
A2: I. Importe Total de las Participaciones pagadas a los Municipios del Estado de Oaxaca correspondiente al mes de JULIO de 2026, incluye el 2do. Ajuste Trimestral 2026 del Fondo de Fiscalización y Recaudación.
A3: CLAVE | B3: MUNICIPIO | C3: JULIO ORDINARIO | D3: TOTAL AJUSTE | E3: TOTAL PAGADO
A4: 1 | B4: ABEJONES | C4: =+'JULIO ORDINARIO'!O4 -> 210778.38 | D4: =+'2do AJUST. TRIMESTRAL'!D4 -> 4517.11 | E4: =SUM(C4:D4) -> 215295.49
A5: 2 | B5: ACATLAN DE PEREZ FIGUEROA | C5: =+'JULIO ORDINARIO'!O5 -> 6156551.3 | D5: =+'2do AJUST. TRIMESTRAL'!D5 -> 289815.03 | E5: =SUM(C5:D5) -> 6446366.3
A6: 3 | B6: ASUNCION CACALOTEPEC | C6: =+'JULIO ORDINARIO'!O6 -> 287325.15 | D6: =+'2do AJUST. TRIMESTRAL'!D6 -> 13871.61 | E6: =SUM(C6:D6) -> 301196.76
A7: 4 | B7: ASUNCION CUYOTEPEJI | C7: =+'JULIO ORDINARIO'!O7 -> 203015.37 | D7: =+'2do AJUST. TRIMESTRAL'!D7 -> 8409.84 | E7: =SUM(C7:D7) -> 211425.21
A8: 5 | B8: ASUNCION IXTALTEPEC | C8: =+'JULIO ORDINARIO'!O8 -> 2372837.4 | D8: =+'2do AJUST. TRIMESTRAL'!D8 -> 150703.43 | E8: =SUM(C8:D8) -> 2523540.8
A9: 6 | B9: ASUNCION NOCHIXTLAN | C9: =+'JULIO ORDINARIO'!O9 -> 3490901.6 | D9: =+'2do AJUST. TRIMESTRAL'!D9 -> 225524.56 | E9: =SUM(C9:D9) -> 3716426.1
A10: 7 | B10: ASUNCION OCOTLAN | C10: =+'JULIO ORDINARIO'!O10 -> 377449.97 | D10: =+'2do AJUST. TRIMESTRAL'!D10 -> 12863.37 | E10: =SUM(C10:D10) -> 390313.34
A11: 8 | B11: ASUNCION TLACOLULITA | C11: =+'JULIO ORDINARIO'!O11 -> 200137.57 | D11: =+'2do AJUST. TRIMESTRAL'!D11 -> 7439.36 | E11: =SUM(C11:D11) -> 207576.93
A12: 9 | B12: AYOTZINTEPEC | C12: =+'JULIO ORDINARIO'!O12 -> 699929.92 | D12: =+'2do AJUST. TRIMESTRAL'!D12 -> 36828.46 | E12: =SUM(C12:D12) -> 736758.38
A13: 10 | B13: EL BARRIO DE LA SOLEDAD | C13: =+'JULIO ORDINARIO'!O13 -> 2664746.4 | D13: =+'2do AJUST. TRIMESTRAL'!D13 -> 263408.1 | E13: =SUM(C13:D13) -> 2928154.5
A14: 11 | B14: CALIHUALA | C14: =+'JULIO ORDINARIO'!O14 -> 219238.22 | D14: =+'2do AJUST. TRIMESTRAL'!D14 -> 7805.36 | E14: =SUM(C14:D14) -> 227043.58
A15: 12 | B15: CANDELARIA LOXICHA | C15: =+'JULIO ORDINARIO'!O15 -> 1113797.1 | D15: =+'2do AJUST. TRIMESTRAL'!D15 -> 98894.65 | E15: =SUM(C15:D15) -> 1212691.7
... A573: 570 | B573: ZIMATLAN DE ALVAREZ | C573: =+'JULIO ORDINARIO'!O573 -> 3200513.1 | D573: =+'2do AJUST. TRIMESTRAL'!D573 -> 206885.24 | E573: =SUM(C573:D573) -> 3407398.4
A574: TOTAL | C574: =SUM(C4:C573) -> 7.1878792e+08 | D574: =SUM(D4:D573) -> 44386941 | E574: =SUM(E4:E573) -> 7.6317486e+08
